BEGIN:VCALENDAR
VERSION:2.0
PRODID:-//YourSiteName//YourEventCalendar//EN
BEGIN:VEVENT
UID:1713-d27755c538076bd8dd77b5dbd4f3b856
DTSTAMP:20260424T052546Z
DTSTART:19700101T000000Z
DTEND:19700101T000000Z
SUMMARY:5th Annual Between the Lines Juried Art Show: “The Briar Club”
DESCRIPTION:Exhibition Dates: April 1-25, 2026 Drop-Off Dates: March 27-28, 2026, 10 a.m.–6 p.m. &#8220;The Springfield-Greene County Library District invites artists to create 2D and 3D artworks for an exhibition inspired by the 2026 One Read book selection, “The Briar Club” by Kate Quinn. The show is focusing on themes from the book, including: • American [&hellip;]
LOCATION:<p>128 Park Central Square, Springfield, MO 65806</p>

END:VEVENT
END:VCALENDAR
