BEGIN:VCALENDAR
VERSION:2.0
PRODID:-//YourSiteName//YourEventCalendar//EN
BEGIN:VEVENT
UID:1438-1eb868b6d93364ae1d467d704aabb55f
DTSTAMP:20260423T120256Z
DTSTART:19700101T000000Z
DTEND:19700101T000000Z
SUMMARY:Art at the Alamo
DESCRIPTION:This month, we are making felt pumpkins! Join us on Tuesday, October 21 at 6:30 PM with teaching artist Jessica Lowe. ✨ Supplies included + full food &#038; beverage service available all evening! ✨ This event will take place on the third Tuesday of each month, beginning at 6:30 in The Backlot! Each month will [&hellip;]
LOCATION:<p>The Backlot</p>
<p>4005 South Avenue #Suite A Springfield, MO 658</p>

END:VEVENT
END:VCALENDAR
