BEGIN:VCALENDAR
VERSION:2.0
PRODID:-//YourSiteName//YourEventCalendar//EN
BEGIN:VEVENT
UID:1946-407a04b4ea08d436f2865b4197ca15a6
DTSTAMP:20260422T060600Z
DTSTART:19700101T000000Z
DTEND:19700101T000000Z
SUMMARY:Barter Boat ships in for Route 66 Centennial!
DESCRIPTION:All aboard Barter Boat!!! Coming to Springfield, MO May 1st! Follow along + get dock access: Instagram @barter_boat Barter Boat is a traveling, collaborative art installation by Anna Elliott, Desireé Moore, and Robin Schwartzman, with an ever-growing crew of sailors. At each stop, we set up our “boat” and trade objects + stories with the [&hellip;]
LOCATION:<p>Central Park Square, Springfield MO</p>

END:VEVENT
END:VCALENDAR
