BEGIN:VCALENDAR
VERSION:2.0
PRODID:-//YourSiteName//YourEventCalendar//EN
BEGIN:VEVENT
UID:457-7d4d91b0b0a08d77bd58bfd79b6640b1
DTSTAMP:20260419T143413Z
DTSTART:19700101T000000Z
DTEND:20250620T000000Z
SUMMARY:Call For Artists: Annual Art Auction
DESCRIPTION:June 2025Annual Art Auction EXHIBITION DATESJune 6-20, 2025 Art Drop-OffMay 29 &amp; 30, 2025 The Springfield Regional Arts Council works to transform lives and enrich our community through the arts. We are asking artists who want to help support our mission to donate up to three pieces to be auctioned off for our &#8220;Annual Art [&hellip;]
LOCATION:<p><span class=\"tribe-street-address\">411 N. Sherman Parkway</span><br /><span class=\"tribe-locality\">Springfield</span><span class=\"tribe-delimiter\">,</span> <span class=\"tribe-postal-code\">65802</span></p>

END:VEVENT
END:VCALENDAR
