BEGIN:VCALENDAR
VERSION:2.0
PRODID:-//YourSiteName//YourEventCalendar//EN
BEGIN:VEVENT
UID:1491-2c28ce1687043ad3f34464c5191c53cf
DTSTAMP:20260423T104252Z
DTSTART:19700101T000000Z
DTEND:19700101T000000Z
SUMMARY:Come From Away
DESCRIPTION:Home Events Come From Away Come From Away A SPRINGFIELD LITTLE THEATRE PREMIERE Book, Music, and Lyrics by IRENE SANKOFF &amp; DAVID HEIN COME FROM AWAY is presented through special arrangement with Music Theatre International (MTI). All authorized performance materials are also supplied by MTI. www.mtishows.com RUNTIME: Approx. 1 hour and 40 minutes, with no [&hellip;]
LOCATION:<p>311 E. Walnut Street<br />
Springfield, MO 65806</p>

END:VEVENT
END:VCALENDAR
