BEGIN:VCALENDAR
VERSION:2.0
PRODID:-//YourSiteName//YourEventCalendar//EN
BEGIN:VEVENT
UID:1333-be6850e9bbf43e011cd7cdaad5e3411e
DTSTAMP:20260422T082416Z
DTSTART:19700101T000000Z
DTEND:19700101T000000Z
SUMMARY:DOTS Second Annual Fringe Festival
DESCRIPTION:A collection of original plays and musicals by local playwrights and artists.
LOCATION:<p>237 S Florence Ave, Springfield, MO 65806</p>

END:VEVENT
END:VCALENDAR
