BEGIN:VCALENDAR
VERSION:2.0
PRODID:-//YourSiteName//YourEventCalendar//EN
BEGIN:VEVENT
UID:1606-e58b03ebc60cad0e4f4ba48d44858adc
DTSTAMP:20260423T074923Z
DTSTART:19700101T000000Z
DTEND:19700101T000000Z
SUMMARY:Drury Theatre &#8216;Springfield Arts Night&#8217;
DESCRIPTION:Drury University Theatre invites community members to attend the Springfield Arts Night performance of “The Spitfire Grill”! This special performance event aims to connect the Springfield community with Drury Theatre’s current and future programming. Beginning at 6pm on November 15 in Clara Thompson Hall, Drury Theatre will offer a pre-show social with&#8230; · Complimentary refreshments! [&hellip;]
LOCATION:<p>Mabee Performing Arts Center, Clara Thompson Hall, Drury University, 900 N Benton Ave, Springfield, MO 65802, N Benton Ave, Springfield, MO 65802</p>

END:VEVENT
END:VCALENDAR
