BEGIN:VCALENDAR
VERSION:2.0
PRODID:-//YourSiteName//YourEventCalendar//EN
BEGIN:VEVENT
UID:1594-1ad071d2e014e12bc27a2069e41561cf
DTSTAMP:20260423T090246Z
DTSTART:19700101T000000Z
DTEND:19700101T000000Z
SUMMARY:Fall Classics: National Lampoon&#8217;s Christmas Vacation 2025
DESCRIPTION:The Historic Gillioz Theatre Presents: National Lampoon&#8217;s Christmas Vacation Friday, November 28th, 2025 Doors: 7:00PM Show: 8:00PM Ticket prices: Regular Film ticket: $12 Advance / $15 Day of VIP tickets: $25 __________________________ The annual showing of National Lampoon&#8217;s Christmas Vacation 2025 will be on Friday, November 28th! VIP Tickets Include: One General Admission Ticket Early [&hellip;]
LOCATION:<p>325 Park Central East, Springfield, MO 65806</p>

END:VEVENT
END:VCALENDAR
