BEGIN:VCALENDAR
VERSION:2.0
PRODID:-//YourSiteName//YourEventCalendar//EN
BEGIN:VEVENT
UID:888-a35aed99d1eefbc4b19f723c8f3ba519
DTSTAMP:20260423T134216Z
DTSTART:96000423T174648Z
DTEND:20260424T011000Z
SUMMARY:Filmmaking Classes for Youth &#8211; Plotline In Space
DESCRIPTION:Set a course for sci-fi adventure as our original, collaborative and creative filmmaking program for youth takes to the stars! This is a hands on cooperative and collaborative filmmaking class for teens (13-18) and another seperate class for tweens (10-12). We cover the major aspects of filmmaking from screenwriting through to film editing and then [&hellip;]
LOCATION:<p><span class=\"tribe-street-address\">411 N. Sherman Parkway</span><br /><span class=\"tribe-locality\">Springfield</span><span class=\"tribe-delimiter\">,</span> <span class=\"tribe-postal-code\">65802</span></p>

END:VEVENT
END:VCALENDAR
