BEGIN:VCALENDAR
VERSION:2.0
PRODID:-//YourSiteName//YourEventCalendar//EN
BEGIN:VEVENT
UID:1673-ba06e5db99d858deafe1a84cfb2d7e02
DTSTAMP:20260423T062746Z
DTSTART:19700101T000000Z
DTEND:19700101T000000Z
SUMMARY:GLO Market: Small Business Saturday
DESCRIPTION:This Small Business Saturday (11/29), join us for a SPECIAL edition of The GLO Market! We&#8217;ll be out at The Fairbanks (1126 N. Broadway Ave) from 12 pm to 6 pm for this FREE event! Vendors such as jewelers, artists, stylists, and more! There will be local, queer-owned small businesses and 2 extra hours to [&hellip;]
LOCATION:<p>1126 N Broadway Ave, Springfield, MO 65802 ·</p>

END:VEVENT
END:VCALENDAR
