BEGIN:VCALENDAR
VERSION:2.0
PRODID:-//YourSiteName//YourEventCalendar//EN
BEGIN:VEVENT
UID:1465-e34f09844b432aec7113a2303b7682b5
DTSTAMP:20260425T101735Z
DTSTART:19700101T000000Z
DTEND:19700101T000000Z
SUMMARY:Goosebumps: The Musical!
DESCRIPTION:Springfield Little Theatre’s Education Series presents GOOSEBUMPS THE MUSICAL! When a group of unsuspecting students accidentally open a mysterious book, they unleash the frightfully fun creatures from R.L. Stine’s best-selling Goosebumps series! With creepy characters, laugh-out-loud twists, and catchy songs, this spooktacular production delivers thrills and chills for the whole family. Just remember… once you [&hellip;]
LOCATION:<p>237 S Florence Ave, Springfield, MO 65806</p>

END:VEVENT
END:VCALENDAR
