BEGIN:VCALENDAR
VERSION:2.0
PRODID:-//YourSiteName//YourEventCalendar//EN
BEGIN:VEVENT
UID:1552-8de9671dcf980b8e498c0af69a95171b
DTSTAMP:20260423T093902Z
DTSTART:19700101T000000Z
DTEND:19700101T000000Z
SUMMARY:High School Musical 2 Jr.
DESCRIPTION:Disney&#8217;s HIGH SCHOOL MUSICAL 2, JR. is a part of Springfield Little Theatre Education Department&#8217;s Youth Entertainment Series, a series for experienced performers. RUNTIME: 90 minutes AUDIENCE: Disney&#8217;s HIGH SCHOOL MUSICAL 2, JR. is rated PG LOCATION: Studio Theatre, The Judith Enyeart Reynolds School of the Performing Arts for Springfield Little Theatre 237 S. Florence [&hellip;]
LOCATION:<p>237 S. Florence Avenue<br />
Springfield MO, 65806</p>

END:VEVENT
END:VCALENDAR
