BEGIN:VCALENDAR
VERSION:2.0
PRODID:-//YourSiteName//YourEventCalendar//EN
BEGIN:VEVENT
UID:1464-b2780b0d88c6c34d188f01ba3165f435
DTSTAMP:20260423T103855Z
DTSTART:19700101T000000Z
DTEND:19700101T000000Z
SUMMARY:Lady Saturday&#8217;s Creepy Cabaret
DESCRIPTION:Springfield Little Theatre Education Department presents LADY SATURDAY’S CREEPY CABARET! Join the vampy vixen herself, Lady Saturday, for an evening where moonlight meets footlights and every number is fun enough to wake the dead! This gleefully ghoulish variety show mashes wicked wit, haunted harmonies, and vintage vaudeville into one deliciously dark night out. Expect razor-sharp [&hellip;]
LOCATION:<p>237 S Florence Ave, Springfield, MO 65806</p>

END:VEVENT
END:VCALENDAR
