BEGIN:VCALENDAR
VERSION:2.0
PRODID:-//YourSiteName//YourEventCalendar//EN
BEGIN:VEVENT
UID:1846-221bfe9d36ec3b3cb8479fa5b1488d70
DTSTAMP:20260421T103432Z
DTSTART:19700101T000000Z
DTEND:19700101T000000Z
SUMMARY:Matilda Jr. &#8211; Summer Camp
DESCRIPTION:Step into the magical world of Roald Dahl’s MATILDA THE MUSICAL, JR., where imagination, bravery, and a little bit of mischief can change everything! This high-energy musical tells the story of Matilda, a brilliant young girl with a vivid imagination and extraordinary courage. When she faces the mean-spirited headmistress Miss Trunchbull, Matilda and her classmates [&hellip;]
LOCATION:<p>237 S. Florence Ave, Springfield MO 65806</p>
<p>Week 2 and Performances:<br />
311 E. Walnut Street</p>

END:VEVENT
END:VCALENDAR
