BEGIN:VCALENDAR
VERSION:2.0
PRODID:-//YourSiteName//YourEventCalendar//EN
BEGIN:VEVENT
UID:1593-70bc17b8e67bd5ff430ab30051fd1e70
DTSTAMP:20260423T093655Z
DTSTART:19700101T000000Z
DTEND:19700101T000000Z
SUMMARY:Movie Matinee: Swingtime
DESCRIPTION:The Historic Gillioz Theatre Presents: Swingtime Wednesday, November 19th, 2025 Doors: 1:00pm Show: 2:00pm __________________________ This is a showing of the 1936 film Swingtime. Dexterous and risk-taking Lucky Garnett (Fred Astaire) pursues dancing and gambling with equal verve. Engaged to the pretty Margaret Watson (Betty Furness), Lucky gets pre-wedding nerves, which leads to the ceremony [&hellip;]
LOCATION:<p>325 Park Central East, Springfield, MO 65806</p>

END:VEVENT
END:VCALENDAR
