BEGIN:VCALENDAR
VERSION:2.0
PRODID:-//YourSiteName//YourEventCalendar//EN
BEGIN:VEVENT
UID:1799-ef58d0c9b27fdaf4010d0397d16c24b2
DTSTAMP:20260422T082229Z
DTSTART:19700101T000000Z
DTEND:19700101T000000Z
SUMMARY:Movie Matinee: Tommy Boy
DESCRIPTION:The Historic Gillioz Theatre Presents: Movie Matinee: Tommy Boy Wednesday, August 19th, 2026 Doors: 1:00PM Trivia: 1:50PM Show: 2:00PM __________________________ This is a showing of the 1995 film Tommy Boy. After his beloved father (Brian Dennehy) dies, dimwitted Tommy Callahan (Chris Farley) inherits a near-bankrupt automobile parts factory in Sandusky, Ohio. His brand new stepmother, [&hellip;]
LOCATION:<p>325 Park Central East, Springfield, MO 65806</p>

END:VEVENT
END:VCALENDAR
