BEGIN:VCALENDAR
VERSION:2.0
PRODID:-//YourSiteName//YourEventCalendar//EN
BEGIN:VEVENT
UID:1887-ba1da2c2a08592e56c253bb2e64826b5
DTSTAMP:20260423T081355Z
DTSTART:19700101T000000Z
DTEND:19700101T000000Z
SUMMARY:NUTCRACKER! Magical Christmas Ballet
DESCRIPTION:The Historic Gillioz Theatre Presents: NUTCRACKER! Magical Christmas Ballet Friday, November 13th, 2026 Doors: 6:00PM Show: 7:00PM __________________________ Make this the Christmas they’ll never forget with NUTCRACKER! Magical Christmas Ballet. Experience the largest Nutcracker production in North America — a breathtaking holiday spectacle featuring world-class international dancers, gravity-defying acrobatics, magnificent costumes, and towering puppets. Set [&hellip;]
LOCATION:<p>325 Park Central East, Springfield, MO 65806</p>

END:VEVENT
END:VCALENDAR
