BEGIN:VCALENDAR
VERSION:2.0
PRODID:-//YourSiteName//YourEventCalendar//EN
BEGIN:VEVENT
UID:1351-0a643e949c452fc8f0e64856e748c5ae
DTSTAMP:20260423T081148Z
DTSTART:96000423T175944Z
DTEND:19700101T000000Z
SUMMARY:Pure Enjoyment
DESCRIPTION:The Springfield Regional Arts Council and Brewer Science proudly present “Pure Enjoyment,” a juried art exhibit honoring the freedom, beauty, and harmony of the natural world. The exhibition features a virtual show open to all artists, along with a special in-person display selected from the online submissions unless artists choose otherwise. Join us for the [&hellip;]
LOCATION:<p>411 N Sherman Pkwy, Springfield, MO 65802</p>

END:VEVENT
END:VCALENDAR
