BEGIN:VCALENDAR
VERSION:2.0
PRODID:-//YourSiteName//YourEventCalendar//EN
BEGIN:VEVENT
UID:1318-4a04721c63b282548a8ab56db3a70106
DTSTAMP:20260421T085719Z
DTSTART:19700101T000000Z
DTEND:19700101T000000Z
SUMMARY:Race to the Symphony
DESCRIPTION:It’s lights out and away we go—to the symphony! Grand Prix racing champions Mario Spaghetti-Andretti and Sir Lightning McHamilton team up to introduce families to a night of turbo-charged music selections at the symphony, including music from Pixar’s Cars, Chariots of Fire, and other racing favorites. Wear your team colors and speed on over to [&hellip;]
LOCATION:<p>Juanita K. Hammons Hall for the Performing Arts<br />
525 S. John Q. Hammons Parkway<br />
Springfield, MO 65802</p>

END:VEVENT
END:VCALENDAR
