BEGIN:VCALENDAR
VERSION:2.0
PRODID:-//YourSiteName//YourEventCalendar//EN
BEGIN:VEVENT
UID:1890-77f942b4680969409ecdbff34bdc0803
DTSTAMP:20260420T174439Z
DTSTART:19700101T000000Z
DTEND:19700101T000000Z
SUMMARY:Rainbow Families Art Class
DESCRIPTION:RSVP for an exciting program designed for families with children 11 years and under! The GLO Center is partnering with the Springfield Regional Arts Council to bring free art classes for our Rainbow Families! This month is self-portraits inspired by Frida Kahlo. 🗓️Details: Monday, April 27th from 5:30 pm to 6:30 pm at The GLO [&hellip;]
LOCATION:<p>518 E. Commercial St. Springfield, MO 65803</p>

END:VEVENT
END:VCALENDAR
