BEGIN:VCALENDAR
VERSION:2.0
PRODID:-//YourSiteName//YourEventCalendar//EN
BEGIN:VEVENT
UID:1591-31f67cf550af0eba2bdb3c19dad44965
DTSTAMP:20260423T090215Z
DTSTART:19700101T000000Z
DTEND:19700101T000000Z
SUMMARY:Sam Bush
DESCRIPTION:The Historic Gillioz Theatre Presents: Sam Bush Friday, November 7th, 2025 Doors: 6:30PM Show: 7:30PM Ticket on sale NOW! __________________________ There was only one prize-winning teenager carrying stones big enough to say thanks, but no thanks to Roy Acuff. Only one son of Kentucky finding a light of inspiration from Bill Monroe and his Blue [&hellip;]
LOCATION:<p>325 Park Central East, Springfield, MO 65806</p>

END:VEVENT
END:VCALENDAR
