BEGIN:VCALENDAR
VERSION:2.0
PRODID:-//YourSiteName//YourEventCalendar//EN
BEGIN:VEVENT
UID:1486-fc275220c3343a3db77121a94de9aa41
DTSTAMP:20260423T103605Z
DTSTART:19700101T000000Z
DTEND:19700101T000000Z
SUMMARY:Springfield Little Theatre Education Presents: Alice by Heart
DESCRIPTION:Springfield Little Theatre&#8217;s Youth Entertainment Series presents ALICE BY HEART! Set in the London Underground during World War II, ALICE BY HEART reimagines Lewis Carroll’s classic tale in a world turned upside down. When the bombs fall above, Alice escapes into her favorite story to find love, courage, and the power to heal through imagination. [&hellip;]
LOCATION:<p>237 S Florence Ave</p>

END:VEVENT
END:VCALENDAR
