BEGIN:VCALENDAR
VERSION:2.0
PRODID:-//YourSiteName//YourEventCalendar//EN
BEGIN:VEVENT
UID:1789-8a56db3e21cc84637f4cb9a4bbc5f5ec
DTSTAMP:20260421T090654Z
DTSTART:19700101T000000Z
DTEND:19700101T000000Z
SUMMARY:SRAC Art Class at GLO Center
DESCRIPTION:RSVP for an exciting program designed for Rainbow Families: GLO&#8217;s youth outreach program for families with kids aged 11 &amp; under! The GLO Center is partnering with the Springfield Regional Arts Council to bring you this art class, inspired by Takashi Murakami&#8217;s flowers. 📧 RSVP: Email info@glocenter.org with how many adults and children you are [&hellip;]
LOCATION:<p>518 East Commercial St Springfield, MO 65803</p>

END:VEVENT
END:VCALENDAR
