BEGIN:VCALENDAR
VERSION:2.0
PRODID:-//YourSiteName//YourEventCalendar//EN
BEGIN:VEVENT
UID:1672-f83b0b19c71a80880a8859f43b9749a3
DTSTAMP:20260424T063940Z
DTSTART:19700101T000000Z
DTEND:19700101T000000Z
SUMMARY:Sweeney Todd Audition Workshop
DESCRIPTION:Get a jump-start on the competition by attending audition workshops! An Audition Preparatory Workshop for Springfield Little Theatre&#8217;s production of SWEENEY TODD will be offered Monday, December 15th from 7:00 PM &#8211; 9:00 PM at The Judy. Whether it’s your first audition or your 20th, everyone can benefit from a show’s audition workshop! Learn how [&hellip;]
LOCATION:<p>The Judy<br />
237 S Florence Ave<br />
Springfield MO, 65806</p>

END:VEVENT
END:VCALENDAR
