BEGIN:VCALENDAR
VERSION:2.0
PRODID:-//YourSiteName//YourEventCalendar//EN
BEGIN:VEVENT
UID:1609-4f14c97cb6ccc9ca9c31f32534062c9b
DTSTAMP:20260425T105539Z
DTSTART:19700101T000000Z
DTEND:19700101T000000Z
SUMMARY:Tap Workshop With Chyrel Love Miller
DESCRIPTION:Get ready to make some noise! Springfield Little Theatre is excited to offer four skill-building Tap Dancing Workshops led by grand-dame Chyrel Love Miller, who will be steering the ship for Anything Goes, the closing ta-da of our 2025-2026 Landers mainstage season! Whether you’re new to tap or looking to sharpen your skills, these workshops [&hellip;]
LOCATION:<p>The Judy</p>
<p>237 S. Florence Avenue<br />
Springfield MO 65806</p>

END:VEVENT
END:VCALENDAR
