BEGIN:VCALENDAR
VERSION:2.0
PRODID:-//YourSiteName//YourEventCalendar//EN
BEGIN:VEVENT
UID:1492-16e5360ee1a69f0d7f33db0d5b4c6a18
DTSTAMP:20260421T091925Z
DTSTART:19700101T000000Z
DTEND:19700101T000000Z
SUMMARY:The Nightmare Story &#8211; Audition Workshop
DESCRIPTION:Ages: 14 &#8211; 18 Get a jump-start on the competition by attending audition workshops! An Audition Preparatory Workshop for Springfield Little Theatre&#8217;s Youth Entertainment Series production of THE NIGHTMARE STORY will be offered Sunday, February 15, 2026 from 7:00 PM &#8211; 9:00 PM at The Judy. Whether it’s your first audition or your 20th, everyone [&hellip;]
LOCATION:<p>237 S. Florence Avenue<br />
Springfield, MO 65806</p>

END:VEVENT
END:VCALENDAR
