BEGIN:VCALENDAR
VERSION:2.0
PRODID:-//YourSiteName//YourEventCalendar//EN
BEGIN:VEVENT
UID:885-f0ff87925f41494d47b7aa0c293db76c
DTSTAMP:20260423T150856Z
DTSTART:96000423T174648Z
DTEND:20260424T020000Z
SUMMARY:The Runaway: A MixTape Musical
DESCRIPTION:Rebel&#8217;s Guild Theatre invites you to The Runaway, a musical retelling/ parody of The Force Awakens. FN2187 (Finn) must choose if he is going to run from his past or embrace the calling that stands in front of him. Though the show is categorized as a parody, it has both serious and satirical story beats. [&hellip;]
LOCATION:<p><span class=\"tribe-street-address\">411 N. Sherman Parkway</span><br /><span class=\"tribe-locality\">Springfield</span><span class=\"tribe-delimiter\">,</span> <span class=\"tribe-postal-code\">65802</span></p>

END:VEVENT
END:VCALENDAR
