BEGIN:VCALENDAR
VERSION:2.0
PRODID:-//YourSiteName//YourEventCalendar//EN
BEGIN:VEVENT
UID:1592-59e81416090cde4507593c7cd54a82fe
DTSTAMP:20260423T090552Z
DTSTART:19700101T000000Z
DTEND:19700101T000000Z
SUMMARY:The Wood Brothers: Puff of Smoke Tour
DESCRIPTION:The Historic Gillioz Theatre Presents: The Wood Brothers with DUG Tuesday, November 11th, 2025 Doors: 7:00PM Show: 8:00PM Tickets on sale NOW at gillioz.org __________________________ Dubbed &#8220;masters of soulful folk&#8221; by Paste, The Wood Brothers formed after brothers Chris and Oliver Wood pursued separate musical careers for 15 years. Chris already had legions of devoted [&hellip;]
LOCATION:<p>325 Park Central East, Springfield, MO 65806</p>

END:VEVENT
END:VCALENDAR
